BEGIN:VCALENDAR
VERSION:2.0
PRODID:-//17th Force Support Squadron - ECPv6.15.20//NONSGML v1.0//EN
CALSCALE:GREGORIAN
METHOD:PUBLISH
X-WR-CALNAME:17th Force Support Squadron
X-ORIGINAL-URL:https://gogoodfellow.com
X-WR-CALDESC:Events for 17th Force Support Squadron
REFRESH-INTERVAL;VALUE=DURATION:PT1H
X-Robots-Tag:noindex
X-PUBLISHED-TTL:PT1H
BEGIN:VTIMEZONE
TZID:America/Chicago
BEGIN:DAYLIGHT
TZOFFSETFROM:-0600
TZOFFSETTO:-0500
TZNAME:CDT
DTSTART:20250309T080000
END:DAYLIGHT
BEGIN:STANDARD
TZOFFSETFROM:-0500
TZOFFSETTO:-0600
TZNAME:CST
DTSTART:20251102T070000
END:STANDARD
BEGIN:DAYLIGHT
TZOFFSETFROM:-0600
TZOFFSETTO:-0500
TZNAME:CDT
DTSTART:20260308T080000
END:DAYLIGHT
BEGIN:STANDARD
TZOFFSETFROM:-0500
TZOFFSETTO:-0600
TZNAME:CST
DTSTART:20261101T070000
END:STANDARD
BEGIN:DAYLIGHT
TZOFFSETFROM:-0600
TZOFFSETTO:-0500
TZNAME:CDT
DTSTART:20270314T080000
END:DAYLIGHT
BEGIN:STANDARD
TZOFFSETFROM:-0500
TZOFFSETTO:-0600
TZNAME:CST
DTSTART:20271107T070000
END:STANDARD
END:VTIMEZONE
BEGIN:VEVENT
DTSTART;TZID=America/Chicago:20260423T173000
DTEND;TZID=America/Chicago:20260423T173000
DTSTAMP:20260421T060534
CREATED:20251118T204232Z
LAST-MODIFIED:20251120T201401Z
UID:10002845-1776965400-1776965400@gogoodfellow.com
SUMMARY:Story Time
DESCRIPTION:The Goodfellow Library will be starting the Story time every Tuesday at 9am & Thursday at 5:30pm for some stories\, sing-alongs\, and crafts!! All ages welcome! \nFMI: 325-654-3232
URL:https://gogoodfellow.com/event/story-time-3/2026-04-23/
CATEGORIES:FSS Events,Fun,Library
ATTACH;FMTTYPE=image/jpeg:https://gogoodfellow.com/wp-content/uploads/2024/12/Story-Time-Graphic-Alternative_DS-scaled.jpg
END:VEVENT
BEGIN:VEVENT
DTSTART;TZID=America/Chicago:20260430T173000
DTEND;TZID=America/Chicago:20260430T173000
DTSTAMP:20260421T060534
CREATED:20251118T204232Z
LAST-MODIFIED:20251120T201401Z
UID:10002846-1777570200-1777570200@gogoodfellow.com
SUMMARY:Story Time
DESCRIPTION:The Goodfellow Library will be starting the Story time every Tuesday at 9am & Thursday at 5:30pm for some stories\, sing-alongs\, and crafts!! All ages welcome! \nFMI: 325-654-3232
URL:https://gogoodfellow.com/event/story-time-3/2026-04-30/
CATEGORIES:FSS Events,Fun,Library
ATTACH;FMTTYPE=image/jpeg:https://gogoodfellow.com/wp-content/uploads/2024/12/Story-Time-Graphic-Alternative_DS-scaled.jpg
END:VEVENT
BEGIN:VEVENT
DTSTART;TZID=America/Chicago:20260507T173000
DTEND;TZID=America/Chicago:20260507T173000
DTSTAMP:20260421T060534
CREATED:20251118T204232Z
LAST-MODIFIED:20251120T201401Z
UID:10002847-1778175000-1778175000@gogoodfellow.com
SUMMARY:Story Time
DESCRIPTION:The Goodfellow Library will be starting the Story time every Tuesday at 9am & Thursday at 5:30pm for some stories\, sing-alongs\, and crafts!! All ages welcome! \nFMI: 325-654-3232
URL:https://gogoodfellow.com/event/story-time-3/2026-05-07/
CATEGORIES:FSS Events,Fun,Library
ATTACH;FMTTYPE=image/jpeg:https://gogoodfellow.com/wp-content/uploads/2024/12/Story-Time-Graphic-Alternative_DS-scaled.jpg
END:VEVENT
BEGIN:VEVENT
DTSTART;TZID=America/Chicago:20260514T173000
DTEND;TZID=America/Chicago:20260514T173000
DTSTAMP:20260421T060534
CREATED:20251118T204232Z
LAST-MODIFIED:20251120T201401Z
UID:10002848-1778779800-1778779800@gogoodfellow.com
SUMMARY:Story Time
DESCRIPTION:The Goodfellow Library will be starting the Story time every Tuesday at 9am & Thursday at 5:30pm for some stories\, sing-alongs\, and crafts!! All ages welcome! \nFMI: 325-654-3232
URL:https://gogoodfellow.com/event/story-time-3/2026-05-14/
CATEGORIES:FSS Events,Fun,Library
ATTACH;FMTTYPE=image/jpeg:https://gogoodfellow.com/wp-content/uploads/2024/12/Story-Time-Graphic-Alternative_DS-scaled.jpg
END:VEVENT
BEGIN:VEVENT
DTSTART;TZID=America/Chicago:20260521T173000
DTEND;TZID=America/Chicago:20260521T173000
DTSTAMP:20260421T060534
CREATED:20251118T204232Z
LAST-MODIFIED:20251120T201401Z
UID:10002849-1779384600-1779384600@gogoodfellow.com
SUMMARY:Story Time
DESCRIPTION:The Goodfellow Library will be starting the Story time every Tuesday at 9am & Thursday at 5:30pm for some stories\, sing-alongs\, and crafts!! All ages welcome! \nFMI: 325-654-3232
URL:https://gogoodfellow.com/event/story-time-3/2026-05-21/
CATEGORIES:FSS Events,Fun,Library
ATTACH;FMTTYPE=image/jpeg:https://gogoodfellow.com/wp-content/uploads/2024/12/Story-Time-Graphic-Alternative_DS-scaled.jpg
END:VEVENT
BEGIN:VEVENT
DTSTART;TZID=America/Chicago:20260528T173000
DTEND;TZID=America/Chicago:20260528T173000
DTSTAMP:20260421T060534
CREATED:20251118T204232Z
LAST-MODIFIED:20251120T201401Z
UID:10002850-1779989400-1779989400@gogoodfellow.com
SUMMARY:Story Time
DESCRIPTION:The Goodfellow Library will be starting the Story time every Tuesday at 9am & Thursday at 5:30pm for some stories\, sing-alongs\, and crafts!! All ages welcome! \nFMI: 325-654-3232
URL:https://gogoodfellow.com/event/story-time-3/2026-05-28/
CATEGORIES:FSS Events,Fun,Library
ATTACH;FMTTYPE=image/jpeg:https://gogoodfellow.com/wp-content/uploads/2024/12/Story-Time-Graphic-Alternative_DS-scaled.jpg
END:VEVENT
BEGIN:VEVENT
DTSTART;TZID=America/Chicago:20260604T173000
DTEND;TZID=America/Chicago:20260604T173000
DTSTAMP:20260421T060534
CREATED:20251118T204232Z
LAST-MODIFIED:20251120T201401Z
UID:10002851-1780594200-1780594200@gogoodfellow.com
SUMMARY:Story Time
DESCRIPTION:The Goodfellow Library will be starting the Story time every Tuesday at 9am & Thursday at 5:30pm for some stories\, sing-alongs\, and crafts!! All ages welcome! \nFMI: 325-654-3232
URL:https://gogoodfellow.com/event/story-time-3/2026-06-04/
CATEGORIES:FSS Events,Fun,Library
ATTACH;FMTTYPE=image/jpeg:https://gogoodfellow.com/wp-content/uploads/2024/12/Story-Time-Graphic-Alternative_DS-scaled.jpg
END:VEVENT
BEGIN:VEVENT
DTSTART;TZID=America/Chicago:20260611T173000
DTEND;TZID=America/Chicago:20260611T173000
DTSTAMP:20260421T060534
CREATED:20251118T204232Z
LAST-MODIFIED:20251120T201401Z
UID:10002852-1781199000-1781199000@gogoodfellow.com
SUMMARY:Story Time
DESCRIPTION:The Goodfellow Library will be starting the Story time every Tuesday at 9am & Thursday at 5:30pm for some stories\, sing-alongs\, and crafts!! All ages welcome! \nFMI: 325-654-3232
URL:https://gogoodfellow.com/event/story-time-3/2026-06-11/
CATEGORIES:FSS Events,Fun,Library
ATTACH;FMTTYPE=image/jpeg:https://gogoodfellow.com/wp-content/uploads/2024/12/Story-Time-Graphic-Alternative_DS-scaled.jpg
END:VEVENT
BEGIN:VEVENT
DTSTART;TZID=America/Chicago:20260618T173000
DTEND;TZID=America/Chicago:20260618T173000
DTSTAMP:20260421T060534
CREATED:20251118T204232Z
LAST-MODIFIED:20251120T201401Z
UID:10002853-1781803800-1781803800@gogoodfellow.com
SUMMARY:Story Time
DESCRIPTION:The Goodfellow Library will be starting the Story time every Tuesday at 9am & Thursday at 5:30pm for some stories\, sing-alongs\, and crafts!! All ages welcome! \nFMI: 325-654-3232
URL:https://gogoodfellow.com/event/story-time-3/2026-06-18/
CATEGORIES:FSS Events,Fun,Library
ATTACH;FMTTYPE=image/jpeg:https://gogoodfellow.com/wp-content/uploads/2024/12/Story-Time-Graphic-Alternative_DS-scaled.jpg
END:VEVENT
BEGIN:VEVENT
DTSTART;TZID=America/Chicago:20260625T173000
DTEND;TZID=America/Chicago:20260625T173000
DTSTAMP:20260421T060534
CREATED:20251118T204232Z
LAST-MODIFIED:20251120T201401Z
UID:10002854-1782408600-1782408600@gogoodfellow.com
SUMMARY:Story Time
DESCRIPTION:The Goodfellow Library will be starting the Story time every Tuesday at 9am & Thursday at 5:30pm for some stories\, sing-alongs\, and crafts!! All ages welcome! \nFMI: 325-654-3232
URL:https://gogoodfellow.com/event/story-time-3/2026-06-25/
CATEGORIES:FSS Events,Fun,Library
ATTACH;FMTTYPE=image/jpeg:https://gogoodfellow.com/wp-content/uploads/2024/12/Story-Time-Graphic-Alternative_DS-scaled.jpg
END:VEVENT
BEGIN:VEVENT
DTSTART;TZID=America/Chicago:20260702T173000
DTEND;TZID=America/Chicago:20260702T173000
DTSTAMP:20260421T060534
CREATED:20251118T204232Z
LAST-MODIFIED:20251120T201401Z
UID:10002855-1783013400-1783013400@gogoodfellow.com
SUMMARY:Story Time
DESCRIPTION:The Goodfellow Library will be starting the Story time every Tuesday at 9am & Thursday at 5:30pm for some stories\, sing-alongs\, and crafts!! All ages welcome! \nFMI: 325-654-3232
URL:https://gogoodfellow.com/event/story-time-3/2026-07-02/
CATEGORIES:FSS Events,Fun,Library
ATTACH;FMTTYPE=image/jpeg:https://gogoodfellow.com/wp-content/uploads/2024/12/Story-Time-Graphic-Alternative_DS-scaled.jpg
END:VEVENT
BEGIN:VEVENT
DTSTART;TZID=America/Chicago:20260709T173000
DTEND;TZID=America/Chicago:20260709T173000
DTSTAMP:20260421T060534
CREATED:20251118T204232Z
LAST-MODIFIED:20251120T201401Z
UID:10002856-1783618200-1783618200@gogoodfellow.com
SUMMARY:Story Time
DESCRIPTION:The Goodfellow Library will be starting the Story time every Tuesday at 9am & Thursday at 5:30pm for some stories\, sing-alongs\, and crafts!! All ages welcome! \nFMI: 325-654-3232
URL:https://gogoodfellow.com/event/story-time-3/2026-07-09/
CATEGORIES:FSS Events,Fun,Library
ATTACH;FMTTYPE=image/jpeg:https://gogoodfellow.com/wp-content/uploads/2024/12/Story-Time-Graphic-Alternative_DS-scaled.jpg
END:VEVENT
BEGIN:VEVENT
DTSTART;TZID=America/Chicago:20260716T173000
DTEND;TZID=America/Chicago:20260716T173000
DTSTAMP:20260421T060534
CREATED:20251118T204232Z
LAST-MODIFIED:20251120T201401Z
UID:10002857-1784223000-1784223000@gogoodfellow.com
SUMMARY:Story Time
DESCRIPTION:The Goodfellow Library will be starting the Story time every Tuesday at 9am & Thursday at 5:30pm for some stories\, sing-alongs\, and crafts!! All ages welcome! \nFMI: 325-654-3232
URL:https://gogoodfellow.com/event/story-time-3/2026-07-16/
CATEGORIES:FSS Events,Fun,Library
ATTACH;FMTTYPE=image/jpeg:https://gogoodfellow.com/wp-content/uploads/2024/12/Story-Time-Graphic-Alternative_DS-scaled.jpg
END:VEVENT
BEGIN:VEVENT
DTSTART;TZID=America/Chicago:20260723T173000
DTEND;TZID=America/Chicago:20260723T173000
DTSTAMP:20260421T060534
CREATED:20251118T204232Z
LAST-MODIFIED:20251120T201401Z
UID:10002858-1784827800-1784827800@gogoodfellow.com
SUMMARY:Story Time
DESCRIPTION:The Goodfellow Library will be starting the Story time every Tuesday at 9am & Thursday at 5:30pm for some stories\, sing-alongs\, and crafts!! All ages welcome! \nFMI: 325-654-3232
URL:https://gogoodfellow.com/event/story-time-3/2026-07-23/
CATEGORIES:FSS Events,Fun,Library
ATTACH;FMTTYPE=image/jpeg:https://gogoodfellow.com/wp-content/uploads/2024/12/Story-Time-Graphic-Alternative_DS-scaled.jpg
END:VEVENT
BEGIN:VEVENT
DTSTART;TZID=America/Chicago:20260730T173000
DTEND;TZID=America/Chicago:20260730T173000
DTSTAMP:20260421T060534
CREATED:20251118T204232Z
LAST-MODIFIED:20251120T201401Z
UID:10002859-1785432600-1785432600@gogoodfellow.com
SUMMARY:Story Time
DESCRIPTION:The Goodfellow Library will be starting the Story time every Tuesday at 9am & Thursday at 5:30pm for some stories\, sing-alongs\, and crafts!! All ages welcome! \nFMI: 325-654-3232
URL:https://gogoodfellow.com/event/story-time-3/2026-07-30/
CATEGORIES:FSS Events,Fun,Library
ATTACH;FMTTYPE=image/jpeg:https://gogoodfellow.com/wp-content/uploads/2024/12/Story-Time-Graphic-Alternative_DS-scaled.jpg
END:VEVENT
BEGIN:VEVENT
DTSTART;TZID=America/Chicago:20260806T173000
DTEND;TZID=America/Chicago:20260806T173000
DTSTAMP:20260421T060534
CREATED:20251118T204232Z
LAST-MODIFIED:20251120T201401Z
UID:10002860-1786037400-1786037400@gogoodfellow.com
SUMMARY:Story Time
DESCRIPTION:The Goodfellow Library will be starting the Story time every Tuesday at 9am & Thursday at 5:30pm for some stories\, sing-alongs\, and crafts!! All ages welcome! \nFMI: 325-654-3232
URL:https://gogoodfellow.com/event/story-time-3/2026-08-06/
CATEGORIES:FSS Events,Fun,Library
ATTACH;FMTTYPE=image/jpeg:https://gogoodfellow.com/wp-content/uploads/2024/12/Story-Time-Graphic-Alternative_DS-scaled.jpg
END:VEVENT
BEGIN:VEVENT
DTSTART;TZID=America/Chicago:20260813T173000
DTEND;TZID=America/Chicago:20260813T173000
DTSTAMP:20260421T060534
CREATED:20251118T204232Z
LAST-MODIFIED:20251120T201401Z
UID:10002861-1786642200-1786642200@gogoodfellow.com
SUMMARY:Story Time
DESCRIPTION:The Goodfellow Library will be starting the Story time every Tuesday at 9am & Thursday at 5:30pm for some stories\, sing-alongs\, and crafts!! All ages welcome! \nFMI: 325-654-3232
URL:https://gogoodfellow.com/event/story-time-3/2026-08-13/
CATEGORIES:FSS Events,Fun,Library
ATTACH;FMTTYPE=image/jpeg:https://gogoodfellow.com/wp-content/uploads/2024/12/Story-Time-Graphic-Alternative_DS-scaled.jpg
END:VEVENT
BEGIN:VEVENT
DTSTART;TZID=America/Chicago:20260820T173000
DTEND;TZID=America/Chicago:20260820T173000
DTSTAMP:20260421T060534
CREATED:20251118T204232Z
LAST-MODIFIED:20251120T201401Z
UID:10002862-1787247000-1787247000@gogoodfellow.com
SUMMARY:Story Time
DESCRIPTION:The Goodfellow Library will be starting the Story time every Tuesday at 9am & Thursday at 5:30pm for some stories\, sing-alongs\, and crafts!! All ages welcome! \nFMI: 325-654-3232
URL:https://gogoodfellow.com/event/story-time-3/2026-08-20/
CATEGORIES:FSS Events,Fun,Library
ATTACH;FMTTYPE=image/jpeg:https://gogoodfellow.com/wp-content/uploads/2024/12/Story-Time-Graphic-Alternative_DS-scaled.jpg
END:VEVENT
BEGIN:VEVENT
DTSTART;TZID=America/Chicago:20260827T173000
DTEND;TZID=America/Chicago:20260827T173000
DTSTAMP:20260421T060534
CREATED:20251118T204232Z
LAST-MODIFIED:20251120T201401Z
UID:10002863-1787851800-1787851800@gogoodfellow.com
SUMMARY:Story Time
DESCRIPTION:The Goodfellow Library will be starting the Story time every Tuesday at 9am & Thursday at 5:30pm for some stories\, sing-alongs\, and crafts!! All ages welcome! \nFMI: 325-654-3232
URL:https://gogoodfellow.com/event/story-time-3/2026-08-27/
CATEGORIES:FSS Events,Fun,Library
ATTACH;FMTTYPE=image/jpeg:https://gogoodfellow.com/wp-content/uploads/2024/12/Story-Time-Graphic-Alternative_DS-scaled.jpg
END:VEVENT
BEGIN:VEVENT
DTSTART;TZID=America/Chicago:20260903T173000
DTEND;TZID=America/Chicago:20260903T173000
DTSTAMP:20260421T060534
CREATED:20251118T204232Z
LAST-MODIFIED:20251120T201401Z
UID:10002864-1788456600-1788456600@gogoodfellow.com
SUMMARY:Story Time
DESCRIPTION:The Goodfellow Library will be starting the Story time every Tuesday at 9am & Thursday at 5:30pm for some stories\, sing-alongs\, and crafts!! All ages welcome! \nFMI: 325-654-3232
URL:https://gogoodfellow.com/event/story-time-3/2026-09-03/
CATEGORIES:FSS Events,Fun,Library
ATTACH;FMTTYPE=image/jpeg:https://gogoodfellow.com/wp-content/uploads/2024/12/Story-Time-Graphic-Alternative_DS-scaled.jpg
END:VEVENT
BEGIN:VEVENT
DTSTART;TZID=America/Chicago:20260910T173000
DTEND;TZID=America/Chicago:20260910T173000
DTSTAMP:20260421T060534
CREATED:20251118T204232Z
LAST-MODIFIED:20251120T201401Z
UID:10002865-1789061400-1789061400@gogoodfellow.com
SUMMARY:Story Time
DESCRIPTION:The Goodfellow Library will be starting the Story time every Tuesday at 9am & Thursday at 5:30pm for some stories\, sing-alongs\, and crafts!! All ages welcome! \nFMI: 325-654-3232
URL:https://gogoodfellow.com/event/story-time-3/2026-09-10/
CATEGORIES:FSS Events,Fun,Library
ATTACH;FMTTYPE=image/jpeg:https://gogoodfellow.com/wp-content/uploads/2024/12/Story-Time-Graphic-Alternative_DS-scaled.jpg
END:VEVENT
BEGIN:VEVENT
DTSTART;TZID=America/Chicago:20260917T173000
DTEND;TZID=America/Chicago:20260917T173000
DTSTAMP:20260421T060534
CREATED:20251118T204232Z
LAST-MODIFIED:20251120T201401Z
UID:10002866-1789666200-1789666200@gogoodfellow.com
SUMMARY:Story Time
DESCRIPTION:The Goodfellow Library will be starting the Story time every Tuesday at 9am & Thursday at 5:30pm for some stories\, sing-alongs\, and crafts!! All ages welcome! \nFMI: 325-654-3232
URL:https://gogoodfellow.com/event/story-time-3/2026-09-17/
CATEGORIES:FSS Events,Fun,Library
ATTACH;FMTTYPE=image/jpeg:https://gogoodfellow.com/wp-content/uploads/2024/12/Story-Time-Graphic-Alternative_DS-scaled.jpg
END:VEVENT
BEGIN:VEVENT
DTSTART;TZID=America/Chicago:20260924T173000
DTEND;TZID=America/Chicago:20260924T173000
DTSTAMP:20260421T060534
CREATED:20251118T204232Z
LAST-MODIFIED:20251120T201401Z
UID:10002867-1790271000-1790271000@gogoodfellow.com
SUMMARY:Story Time
DESCRIPTION:The Goodfellow Library will be starting the Story time every Tuesday at 9am & Thursday at 5:30pm for some stories\, sing-alongs\, and crafts!! All ages welcome! \nFMI: 325-654-3232
URL:https://gogoodfellow.com/event/story-time-3/2026-09-24/
CATEGORIES:FSS Events,Fun,Library
ATTACH;FMTTYPE=image/jpeg:https://gogoodfellow.com/wp-content/uploads/2024/12/Story-Time-Graphic-Alternative_DS-scaled.jpg
END:VEVENT
BEGIN:VEVENT
DTSTART;TZID=America/Chicago:20261001T173000
DTEND;TZID=America/Chicago:20261001T173000
DTSTAMP:20260421T060534
CREATED:20251118T204232Z
LAST-MODIFIED:20251120T201401Z
UID:10002868-1790875800-1790875800@gogoodfellow.com
SUMMARY:Story Time
DESCRIPTION:The Goodfellow Library will be starting the Story time every Tuesday at 9am & Thursday at 5:30pm for some stories\, sing-alongs\, and crafts!! All ages welcome! \nFMI: 325-654-3232
URL:https://gogoodfellow.com/event/story-time-3/2026-10-01/
CATEGORIES:FSS Events,Fun,Library
ATTACH;FMTTYPE=image/jpeg:https://gogoodfellow.com/wp-content/uploads/2024/12/Story-Time-Graphic-Alternative_DS-scaled.jpg
END:VEVENT
BEGIN:VEVENT
DTSTART;TZID=America/Chicago:20261008T173000
DTEND;TZID=America/Chicago:20261008T173000
DTSTAMP:20260421T060534
CREATED:20251118T204232Z
LAST-MODIFIED:20251120T201401Z
UID:10002869-1791480600-1791480600@gogoodfellow.com
SUMMARY:Story Time
DESCRIPTION:The Goodfellow Library will be starting the Story time every Tuesday at 9am & Thursday at 5:30pm for some stories\, sing-alongs\, and crafts!! All ages welcome! \nFMI: 325-654-3232
URL:https://gogoodfellow.com/event/story-time-3/2026-10-08/
CATEGORIES:FSS Events,Fun,Library
ATTACH;FMTTYPE=image/jpeg:https://gogoodfellow.com/wp-content/uploads/2024/12/Story-Time-Graphic-Alternative_DS-scaled.jpg
END:VEVENT
BEGIN:VEVENT
DTSTART;TZID=America/Chicago:20261015T173000
DTEND;TZID=America/Chicago:20261015T173000
DTSTAMP:20260421T060534
CREATED:20251118T204232Z
LAST-MODIFIED:20251120T201401Z
UID:10002870-1792085400-1792085400@gogoodfellow.com
SUMMARY:Story Time
DESCRIPTION:The Goodfellow Library will be starting the Story time every Tuesday at 9am & Thursday at 5:30pm for some stories\, sing-alongs\, and crafts!! All ages welcome! \nFMI: 325-654-3232
URL:https://gogoodfellow.com/event/story-time-3/2026-10-15/
CATEGORIES:FSS Events,Fun,Library
ATTACH;FMTTYPE=image/jpeg:https://gogoodfellow.com/wp-content/uploads/2024/12/Story-Time-Graphic-Alternative_DS-scaled.jpg
END:VEVENT
BEGIN:VEVENT
DTSTART;TZID=America/Chicago:20261022T173000
DTEND;TZID=America/Chicago:20261022T173000
DTSTAMP:20260421T060534
CREATED:20251118T204232Z
LAST-MODIFIED:20251120T201401Z
UID:10002871-1792690200-1792690200@gogoodfellow.com
SUMMARY:Story Time
DESCRIPTION:The Goodfellow Library will be starting the Story time every Tuesday at 9am & Thursday at 5:30pm for some stories\, sing-alongs\, and crafts!! All ages welcome! \nFMI: 325-654-3232
URL:https://gogoodfellow.com/event/story-time-3/2026-10-22/
CATEGORIES:FSS Events,Fun,Library
ATTACH;FMTTYPE=image/jpeg:https://gogoodfellow.com/wp-content/uploads/2024/12/Story-Time-Graphic-Alternative_DS-scaled.jpg
END:VEVENT
BEGIN:VEVENT
DTSTART;TZID=America/Chicago:20261029T173000
DTEND;TZID=America/Chicago:20261029T173000
DTSTAMP:20260421T060534
CREATED:20251118T204232Z
LAST-MODIFIED:20251120T201401Z
UID:10002872-1793295000-1793295000@gogoodfellow.com
SUMMARY:Story Time
DESCRIPTION:The Goodfellow Library will be starting the Story time every Tuesday at 9am & Thursday at 5:30pm for some stories\, sing-alongs\, and crafts!! All ages welcome! \nFMI: 325-654-3232
URL:https://gogoodfellow.com/event/story-time-3/2026-10-29/
CATEGORIES:FSS Events,Fun,Library
ATTACH;FMTTYPE=image/jpeg:https://gogoodfellow.com/wp-content/uploads/2024/12/Story-Time-Graphic-Alternative_DS-scaled.jpg
END:VEVENT
BEGIN:VEVENT
DTSTART;TZID=America/Chicago:20261105T173000
DTEND;TZID=America/Chicago:20261105T173000
DTSTAMP:20260421T060534
CREATED:20251118T204232Z
LAST-MODIFIED:20251120T201401Z
UID:10002873-1793899800-1793899800@gogoodfellow.com
SUMMARY:Story Time
DESCRIPTION:The Goodfellow Library will be starting the Story time every Tuesday at 9am & Thursday at 5:30pm for some stories\, sing-alongs\, and crafts!! All ages welcome! \nFMI: 325-654-3232
URL:https://gogoodfellow.com/event/story-time-3/2026-11-05/
CATEGORIES:FSS Events,Fun,Library
ATTACH;FMTTYPE=image/jpeg:https://gogoodfellow.com/wp-content/uploads/2024/12/Story-Time-Graphic-Alternative_DS-scaled.jpg
END:VEVENT
BEGIN:VEVENT
DTSTART;TZID=America/Chicago:20261112T173000
DTEND;TZID=America/Chicago:20261112T173000
DTSTAMP:20260421T060534
CREATED:20251118T204232Z
LAST-MODIFIED:20251120T201401Z
UID:10002874-1794504600-1794504600@gogoodfellow.com
SUMMARY:Story Time
DESCRIPTION:The Goodfellow Library will be starting the Story time every Tuesday at 9am & Thursday at 5:30pm for some stories\, sing-alongs\, and crafts!! All ages welcome! \nFMI: 325-654-3232
URL:https://gogoodfellow.com/event/story-time-3/2026-11-12/
CATEGORIES:FSS Events,Fun,Library
ATTACH;FMTTYPE=image/jpeg:https://gogoodfellow.com/wp-content/uploads/2024/12/Story-Time-Graphic-Alternative_DS-scaled.jpg
END:VEVENT
END:VCALENDAR