BEGIN:VCALENDAR
VERSION:2.0
PRODID:-//17th Force Support Squadron - ECPv6.15.20//NONSGML v1.0//EN
CALSCALE:GREGORIAN
METHOD:PUBLISH
X-WR-CALNAME:17th Force Support Squadron
X-ORIGINAL-URL:https://gogoodfellow.com
X-WR-CALDESC:Events for 17th Force Support Squadron
REFRESH-INTERVAL;VALUE=DURATION:PT1H
X-Robots-Tag:noindex
X-PUBLISHED-TTL:PT1H
BEGIN:VTIMEZONE
TZID:America/Chicago
BEGIN:DAYLIGHT
TZOFFSETFROM:-0600
TZOFFSETTO:-0500
TZNAME:CDT
DTSTART:20250309T080000
END:DAYLIGHT
BEGIN:STANDARD
TZOFFSETFROM:-0500
TZOFFSETTO:-0600
TZNAME:CST
DTSTART:20251102T070000
END:STANDARD
BEGIN:DAYLIGHT
TZOFFSETFROM:-0600
TZOFFSETTO:-0500
TZNAME:CDT
DTSTART:20260308T080000
END:DAYLIGHT
BEGIN:STANDARD
TZOFFSETFROM:-0500
TZOFFSETTO:-0600
TZNAME:CST
DTSTART:20261101T070000
END:STANDARD
BEGIN:DAYLIGHT
TZOFFSETFROM:-0600
TZOFFSETTO:-0500
TZNAME:CDT
DTSTART:20270314T080000
END:DAYLIGHT
BEGIN:STANDARD
TZOFFSETFROM:-0500
TZOFFSETTO:-0600
TZNAME:CST
DTSTART:20271107T070000
END:STANDARD
END:VTIMEZONE
BEGIN:VEVENT
DTSTART;TZID=America/Chicago:20260420T100000
DTEND;TZID=America/Chicago:20260423T190000
DTSTAMP:20260420T111242
CREATED:20260317T154832Z
LAST-MODIFIED:20260317T154832Z
UID:10003067-1776679200-1776970800@gogoodfellow.com
SUMMARY:National Library Week
DESCRIPTION:Win big this week for National Library Week April 20th-25th! Every visit to the Goodfellow Library during this time earns you a ticket & earn extra tickets every time you check out library material. \nPrizes: Kindle Scribe\, Kindle Paper White\, Kindle Colorsoft Scribe. \nMon-Thu 20th-23rd 10am-7pm\, Fri 24th 10am-5pm\, Sat 25th 11am-3pm. \nFMI: 325-654-3232
URL:https://gogoodfellow.com/event/national-library-week/2026-04-20/
CATEGORIES:FSS Events,Fun,Library
ATTACH;FMTTYPE=image/jpeg:https://gogoodfellow.com/wp-content/uploads/2026/03/20-25-National-Library-Week_DS-scaled.jpg
END:VEVENT
BEGIN:VEVENT
DTSTART;TZID=America/Chicago:20260421T090000
DTEND;TZID=America/Chicago:20260421T090000
DTSTAMP:20260420T111242
CREATED:20251118T204047Z
LAST-MODIFIED:20251118T204047Z
UID:10002794-1776762000-1776762000@gogoodfellow.com
SUMMARY:Story Time
DESCRIPTION:The Goodfellow Library will be starting the Story time every Tuesday at 9am & Thursday at 5:30pm for some stories\, sing-alongs\, and crafts!! All ages welcome! \nFMI: 325-654-3232
URL:https://gogoodfellow.com/event/story-time/2026-04-21/
CATEGORIES:FSS Events,Fun,Library
ATTACH;FMTTYPE=image/jpeg:https://gogoodfellow.com/wp-content/uploads/2024/12/Story-Time-Graphic-Alternative_DS-scaled.jpg
END:VEVENT
BEGIN:VEVENT
DTSTART;TZID=America/Chicago:20260421T103000
DTEND;TZID=America/Chicago:20260421T123000
DTSTAMP:20260420T111242
CREATED:20260316T160525Z
LAST-MODIFIED:20260316T160525Z
UID:10003059-1776767400-1776774600@gogoodfellow.com
SUMMARY:Fibers Club
DESCRIPTION:Fibers Club this month is April 7th & 27th 5pm-7pm\, 14th & 21st 10:30am-12:30pm in the Library FMI: 325-654-3232
URL:https://gogoodfellow.com/event/fibers-club-2/2026-04-21/
CATEGORIES:FSS Events,Fun,Library
ATTACH;FMTTYPE=image/jpeg:https://gogoodfellow.com/wp-content/uploads/2026/03/7-28-APR-Fibers-Club_DS-scaled.jpg
END:VEVENT
BEGIN:VEVENT
DTSTART;TZID=America/Chicago:20260423T173000
DTEND;TZID=America/Chicago:20260423T173000
DTSTAMP:20260420T111242
CREATED:20251118T204232Z
LAST-MODIFIED:20251120T201401Z
UID:10002845-1776965400-1776965400@gogoodfellow.com
SUMMARY:Story Time
DESCRIPTION:The Goodfellow Library will be starting the Story time every Tuesday at 9am & Thursday at 5:30pm for some stories\, sing-alongs\, and crafts!! All ages welcome! \nFMI: 325-654-3232
URL:https://gogoodfellow.com/event/story-time-3/2026-04-23/
CATEGORIES:FSS Events,Fun,Library
ATTACH;FMTTYPE=image/jpeg:https://gogoodfellow.com/wp-content/uploads/2024/12/Story-Time-Graphic-Alternative_DS-scaled.jpg
END:VEVENT
BEGIN:VEVENT
DTSTART;TZID=America/Chicago:20260424T100000
DTEND;TZID=America/Chicago:20260424T170000
DTSTAMP:20260420T111242
CREATED:20260317T154832Z
LAST-MODIFIED:20260317T154832Z
UID:10003068-1777024800-1777050000@gogoodfellow.com
SUMMARY:National Library Week
DESCRIPTION:Win big this week for National Library Week April 20th-25th! Every visit to the Goodfellow Library during this time earns you a ticket & earn extra tickets every time you check out library material. \nPrizes: Kindle Scribe\, Kindle Paper White\, Kindle Colorsoft Scribe. \nMon-Thu 20th-23rd 10am-7pm\, Fri 24th 10am-5pm\, Sat 25th 11am-3pm. \nFMI: 325-654-3232
URL:https://gogoodfellow.com/event/national-library-week/2026-04-24/
CATEGORIES:FSS Events,Fun,Library
ATTACH;FMTTYPE=image/jpeg:https://gogoodfellow.com/wp-content/uploads/2026/03/20-25-National-Library-Week_DS-scaled.jpg
END:VEVENT
BEGIN:VEVENT
DTSTART;TZID=America/Chicago:20260424T173000
DTEND;TZID=America/Chicago:20260424T173000
DTSTAMP:20260420T111242
CREATED:20260331T150546Z
LAST-MODIFIED:20260331T151141Z
UID:10003078-1777051800-1777051800@gogoodfellow.com
SUMMARY:Operation Megaphone
DESCRIPTION:The volume rises April 24th… Operation Megaphone takes over Prime Time in Abilene\, TX from 5:30PM to Midnight. Are you ready? 🔊🔥 Ages 12+ \nCall 325-654-4708 to sign-up before the deadline April 22nd
URL:https://gogoodfellow.com/event/operation-megaphone/
CATEGORIES:FSS Events,Fun,Youth Center
ATTACH;FMTTYPE=image/jpeg:https://gogoodfellow.com/wp-content/uploads/2026/03/Operation-Megaphone_DS_DS.jpg
END:VEVENT
BEGIN:VEVENT
DTSTART;TZID=America/Chicago:20260424T173000
DTEND;TZID=America/Chicago:20260424T200000
DTSTAMP:20260420T111242
CREATED:20251120T200907Z
LAST-MODIFIED:20251120T201048Z
UID:10002890-1777051800-1777060800@gogoodfellow.com
SUMMARY:Friday Night Flicks
DESCRIPTION:Weekly movie nights every Friday @ the Library 5:30pm-8pm \nFMI: 325-654-3232
URL:https://gogoodfellow.com/event/friday-night-flicks-2/2026-04-24/
CATEGORIES:FSS Events,Fun,Library
ATTACH;FMTTYPE=image/jpeg:https://gogoodfellow.com/wp-content/uploads/2025/09/Alternate-Weekly-Friday-Night-Flicks_DS-scaled.jpg
END:VEVENT
BEGIN:VEVENT
DTSTART;TZID=America/Chicago:20260424T180000
DTEND;TZID=America/Chicago:20260424T180000
DTSTAMP:20260420T111242
CREATED:20260325T145130Z
LAST-MODIFIED:20260325T145130Z
UID:10003076-1777053600-1777053600@gogoodfellow.com
SUMMARY:Handmade Soap Making
DESCRIPTION:Be creative at our Handmade Soap Making Class April 24th at 6pm in the Powell Event Center \nto sign up call 325-654-1561
URL:https://gogoodfellow.com/event/handmade-soap-making/
CATEGORIES:Event Center,FSS Events,Fun
ATTACH;FMTTYPE=image/jpeg:https://gogoodfellow.com/wp-content/uploads/2026/03/24-APR-Soap-Making-Class_DS-scaled.jpg
END:VEVENT
BEGIN:VEVENT
DTSTART;TZID=America/Chicago:20260424T200000
DTEND;TZID=America/Chicago:20260424T233000
DTSTAMP:20260420T111242
CREATED:20250917T202955Z
LAST-MODIFIED:20251120T201224Z
UID:10002217-1777060800-1777073400@gogoodfellow.com
SUMMARY:Karaoke Night
DESCRIPTION:Karaoke night every Friday 8pm-11:30pm in the Powell Event Center \nFMI: 325654-1997 or 1564
URL:https://gogoodfellow.com/event/karaoke-night/2026-04-24/
CATEGORIES:Event Center,FSS Events,Fun
ATTACH;FMTTYPE=image/jpeg:https://gogoodfellow.com/wp-content/uploads/2025/09/Karaoke-Night-with-Art-in-the-Force-Logo_DS-scaled.jpg
END:VEVENT
BEGIN:VEVENT
DTSTART;TZID=America/Chicago:20260425T110000
DTEND;TZID=America/Chicago:20260425T150000
DTSTAMP:20260420T111242
CREATED:20260317T154832Z
LAST-MODIFIED:20260317T154832Z
UID:10003069-1777114800-1777129200@gogoodfellow.com
SUMMARY:National Library Week
DESCRIPTION:Win big this week for National Library Week April 20th-25th! Every visit to the Goodfellow Library during this time earns you a ticket & earn extra tickets every time you check out library material. \nPrizes: Kindle Scribe\, Kindle Paper White\, Kindle Colorsoft Scribe. \nMon-Thu 20th-23rd 10am-7pm\, Fri 24th 10am-5pm\, Sat 25th 11am-3pm. \nFMI: 325-654-3232
URL:https://gogoodfellow.com/event/national-library-week/2026-04-25/
CATEGORIES:FSS Events,Fun,Library
ATTACH;FMTTYPE=image/jpeg:https://gogoodfellow.com/wp-content/uploads/2026/03/20-25-National-Library-Week_DS-scaled.jpg
END:VEVENT
BEGIN:VEVENT
DTSTART;TZID=America/Chicago:20260425T120000
DTEND;TZID=America/Chicago:20260425T150000
DTSTAMP:20260420T111242
CREATED:20260317T163220Z
LAST-MODIFIED:20260402T171441Z
UID:10003072-1777118400-1777129200@gogoodfellow.com
SUMMARY:Clay Hand Building
DESCRIPTION:In the Arts & Crafts building 109 April 25th join in on Clay Hand Building 12pm-3pm. \nCost: $10 which includes clay\, tools\, glazes\, firing & guided instructions. \nFMI: 325-654-3237
URL:https://gogoodfellow.com/event/23540/
CATEGORIES:Arts & Crafts,FSS Events,Fun
ATTACH;FMTTYPE=image/jpeg:https://gogoodfellow.com/wp-content/uploads/2026/03/25-APR-Clay-Hand-Building-Class_DS-scaled.jpg
END:VEVENT
BEGIN:VEVENT
DTSTART;TZID=America/Chicago:20260428T090000
DTEND;TZID=America/Chicago:20260428T090000
DTSTAMP:20260420T111242
CREATED:20251118T204047Z
LAST-MODIFIED:20251118T204047Z
UID:10002795-1777366800-1777366800@gogoodfellow.com
SUMMARY:Story Time
DESCRIPTION:The Goodfellow Library will be starting the Story time every Tuesday at 9am & Thursday at 5:30pm for some stories\, sing-alongs\, and crafts!! All ages welcome! \nFMI: 325-654-3232
URL:https://gogoodfellow.com/event/story-time/2026-04-28/
CATEGORIES:FSS Events,Fun,Library
ATTACH;FMTTYPE=image/jpeg:https://gogoodfellow.com/wp-content/uploads/2024/12/Story-Time-Graphic-Alternative_DS-scaled.jpg
END:VEVENT
BEGIN:VEVENT
DTSTART;TZID=America/Chicago:20260428T170000
DTEND;TZID=America/Chicago:20260428T190000
DTSTAMP:20260420T111242
CREATED:20260316T160525Z
LAST-MODIFIED:20260316T160525Z
UID:10003060-1777395600-1777402800@gogoodfellow.com
SUMMARY:Fibers Club
DESCRIPTION:Fibers Club this month is April 7th & 27th 5pm-7pm\, 14th & 21st 10:30am-12:30pm in the Library FMI: 325-654-3232
URL:https://gogoodfellow.com/event/fibers-club-2/2026-04-28/
CATEGORIES:FSS Events,Fun,Library
ATTACH;FMTTYPE=image/jpeg:https://gogoodfellow.com/wp-content/uploads/2026/03/7-28-APR-Fibers-Club_DS-scaled.jpg
END:VEVENT
BEGIN:VEVENT
DTSTART;TZID=America/Chicago:20260430T173000
DTEND;TZID=America/Chicago:20260430T173000
DTSTAMP:20260420T111242
CREATED:20251118T204232Z
LAST-MODIFIED:20251120T201401Z
UID:10002846-1777570200-1777570200@gogoodfellow.com
SUMMARY:Story Time
DESCRIPTION:The Goodfellow Library will be starting the Story time every Tuesday at 9am & Thursday at 5:30pm for some stories\, sing-alongs\, and crafts!! All ages welcome! \nFMI: 325-654-3232
URL:https://gogoodfellow.com/event/story-time-3/2026-04-30/
CATEGORIES:FSS Events,Fun,Library
ATTACH;FMTTYPE=image/jpeg:https://gogoodfellow.com/wp-content/uploads/2024/12/Story-Time-Graphic-Alternative_DS-scaled.jpg
END:VEVENT
BEGIN:VEVENT
DTSTART;TZID=America/Chicago:20260501T160000
DTEND;TZID=America/Chicago:20260501T200000
DTSTAMP:20260420T111242
CREATED:20260413T202411Z
LAST-MODIFIED:20260413T202423Z
UID:10003094-1777651200-1777665600@gogoodfellow.com
SUMMARY:First Friday
DESCRIPTION:Don’t miss out on our upcoming First Friday! Enjoy our special drink “The Goodfella” on May 1st from 4-8pm ONLY! 18+ in the Powell Event Center \nFMI: 325-654-3247
URL:https://gogoodfellow.com/event/23951/
CATEGORIES:Event Center,FSS Events,Fun
ATTACH;FMTTYPE=image/jpeg:https://gogoodfellow.com/wp-content/uploads/2026/04/1-MAY-First-Friday-with-sponsor_DS-scaled.jpg
END:VEVENT
BEGIN:VEVENT
DTSTART;TZID=America/Chicago:20260501T173000
DTEND;TZID=America/Chicago:20260501T200000
DTSTAMP:20260420T111242
CREATED:20251120T200907Z
LAST-MODIFIED:20251120T201048Z
UID:10002891-1777656600-1777665600@gogoodfellow.com
SUMMARY:Friday Night Flicks
DESCRIPTION:Weekly movie nights every Friday @ the Library 5:30pm-8pm \nFMI: 325-654-3232
URL:https://gogoodfellow.com/event/friday-night-flicks-2/2026-05-01/
CATEGORIES:FSS Events,Fun,Library
ATTACH;FMTTYPE=image/jpeg:https://gogoodfellow.com/wp-content/uploads/2025/09/Alternate-Weekly-Friday-Night-Flicks_DS-scaled.jpg
END:VEVENT
BEGIN:VEVENT
DTSTART;TZID=America/Chicago:20260501T200000
DTEND;TZID=America/Chicago:20260501T233000
DTSTAMP:20260420T111242
CREATED:20250917T202955Z
LAST-MODIFIED:20251120T201224Z
UID:10002218-1777665600-1777678200@gogoodfellow.com
SUMMARY:Karaoke Night
DESCRIPTION:Karaoke night every Friday 8pm-11:30pm in the Powell Event Center \nFMI: 325654-1997 or 1564
URL:https://gogoodfellow.com/event/karaoke-night/2026-05-01/
CATEGORIES:Event Center,FSS Events,Fun
ATTACH;FMTTYPE=image/jpeg:https://gogoodfellow.com/wp-content/uploads/2025/09/Karaoke-Night-with-Art-in-the-Force-Logo_DS-scaled.jpg
END:VEVENT
BEGIN:VEVENT
DTSTART;TZID=America/Chicago:20260502T080000
DTEND;TZID=America/Chicago:20260502T160000
DTSTAMP:20260420T111242
CREATED:20260316T211124Z
LAST-MODIFIED:20260417T152948Z
UID:10003065-1777708800-1777737600@gogoodfellow.com
SUMMARY:South Llano Photography Hike
DESCRIPTION:📷 Photography Hike | May 2ndJoin Arts & Crafts & ODR for a scenic photography hike at South Llano River State Park from 8am-4pm. Cost $30\, leave from TRAC building 109. \nCall 325-654-5249 to reserve your spot.
URL:https://gogoodfellow.com/event/south-llano-photography-hike/
CATEGORIES:Arts & Crafts,FSS Events,Fun,Outdoor Recreation
ATTACH;FMTTYPE=image/jpeg:https://gogoodfellow.com/wp-content/uploads/2026/03/2-MAY-South-Llano-Photography-Hike_Artboard-2-scaled.jpg
END:VEVENT
BEGIN:VEVENT
DTSTART;TZID=America/Chicago:20260504T170000
DTEND;TZID=America/Chicago:20260504T180000
DTSTAMP:20260420T111242
CREATED:20260414T150454Z
LAST-MODIFIED:20260414T150454Z
UID:10003097-1777914000-1777917600@gogoodfellow.com
SUMMARY:Youth Book Party
DESCRIPTION:Youth Book Party @ the Library May 4th 5pm-6pm \nFMI: 325-654-3232
URL:https://gogoodfellow.com/event/youth-book-party-2/
CATEGORIES:FSS Events,Fun,Library
ATTACH;FMTTYPE=image/jpeg:https://gogoodfellow.com/wp-content/uploads/2026/04/4-MAY-Youth-Book-Party_DS-scaled.jpg
END:VEVENT
BEGIN:VEVENT
DTSTART;TZID=America/Chicago:20260505T090000
DTEND;TZID=America/Chicago:20260505T090000
DTSTAMP:20260420T111242
CREATED:20251118T204047Z
LAST-MODIFIED:20251118T204047Z
UID:10002796-1777971600-1777971600@gogoodfellow.com
SUMMARY:Story Time
DESCRIPTION:The Goodfellow Library will be starting the Story time every Tuesday at 9am & Thursday at 5:30pm for some stories\, sing-alongs\, and crafts!! All ages welcome! \nFMI: 325-654-3232
URL:https://gogoodfellow.com/event/story-time/2026-05-05/
CATEGORIES:FSS Events,Fun,Library
ATTACH;FMTTYPE=image/jpeg:https://gogoodfellow.com/wp-content/uploads/2024/12/Story-Time-Graphic-Alternative_DS-scaled.jpg
END:VEVENT
BEGIN:VEVENT
DTSTART;TZID=America/Chicago:20260505T170000
DTEND;TZID=America/Chicago:20260505T190000
DTSTAMP:20260420T111242
CREATED:20260414T155515Z
LAST-MODIFIED:20260414T155515Z
UID:10003098-1778000400-1778007600@gogoodfellow.com
SUMMARY:Fibers Club
DESCRIPTION:Fibers Club this month is May 5th & 26th 5pm-7pm\, 12th & 19th 10:30am-12:30pm in the Library \nFMI: 325-654-3232
URL:https://gogoodfellow.com/event/fibers-club-3/2026-05-05/
CATEGORIES:FSS Events,Fun,Library
ATTACH;FMTTYPE=image/jpeg:https://gogoodfellow.com/wp-content/uploads/2026/04/5-26-APR-Fibers-Club_DS-scaled.jpg
END:VEVENT
BEGIN:VEVENT
DTSTART;TZID=America/Chicago:20260507T173000
DTEND;TZID=America/Chicago:20260507T173000
DTSTAMP:20260420T111242
CREATED:20251118T204232Z
LAST-MODIFIED:20251120T201401Z
UID:10002847-1778175000-1778175000@gogoodfellow.com
SUMMARY:Story Time
DESCRIPTION:The Goodfellow Library will be starting the Story time every Tuesday at 9am & Thursday at 5:30pm for some stories\, sing-alongs\, and crafts!! All ages welcome! \nFMI: 325-654-3232
URL:https://gogoodfellow.com/event/story-time-3/2026-05-07/
CATEGORIES:FSS Events,Fun,Library
ATTACH;FMTTYPE=image/jpeg:https://gogoodfellow.com/wp-content/uploads/2024/12/Story-Time-Graphic-Alternative_DS-scaled.jpg
END:VEVENT
BEGIN:VEVENT
DTSTART;TZID=America/Chicago:20260508T173000
DTEND;TZID=America/Chicago:20260508T200000
DTSTAMP:20260420T111242
CREATED:20251120T200907Z
LAST-MODIFIED:20251120T201048Z
UID:10002892-1778261400-1778270400@gogoodfellow.com
SUMMARY:Friday Night Flicks
DESCRIPTION:Weekly movie nights every Friday @ the Library 5:30pm-8pm \nFMI: 325-654-3232
URL:https://gogoodfellow.com/event/friday-night-flicks-2/2026-05-08/
CATEGORIES:FSS Events,Fun,Library
ATTACH;FMTTYPE=image/jpeg:https://gogoodfellow.com/wp-content/uploads/2025/09/Alternate-Weekly-Friday-Night-Flicks_DS-scaled.jpg
END:VEVENT
BEGIN:VEVENT
DTSTART;TZID=America/Chicago:20260508T200000
DTEND;TZID=America/Chicago:20260508T233000
DTSTAMP:20260420T111242
CREATED:20250917T202955Z
LAST-MODIFIED:20251120T201224Z
UID:10002219-1778270400-1778283000@gogoodfellow.com
SUMMARY:Karaoke Night
DESCRIPTION:Karaoke night every Friday 8pm-11:30pm in the Powell Event Center \nFMI: 325654-1997 or 1564
URL:https://gogoodfellow.com/event/karaoke-night/2026-05-08/
CATEGORIES:Event Center,FSS Events,Fun
ATTACH;FMTTYPE=image/jpeg:https://gogoodfellow.com/wp-content/uploads/2025/09/Karaoke-Night-with-Art-in-the-Force-Logo_DS-scaled.jpg
END:VEVENT
BEGIN:VEVENT
DTSTART;TZID=America/Chicago:20260509T090000
DTEND;TZID=America/Chicago:20260509T120000
DTSTAMP:20260420T111242
CREATED:20260414T164728Z
LAST-MODIFIED:20260414T164728Z
UID:10003105-1778317200-1778328000@gogoodfellow.com
SUMMARY:Mathis Track Meet
DESCRIPTION:Join us May 9th from 9AM–12PM for the Mathis Track Meet—come cheer on the athletes! 🏃‍♂️🔥 \nFMI: 325-654-3242
URL:https://gogoodfellow.com/event/mathis-track-meet/
CATEGORIES:Fitness,FSS Events,Fun
ATTACH;FMTTYPE=image/jpeg:https://gogoodfellow.com/wp-content/uploads/2026/04/9-MAY-Mathis-Track-Meet_DS-scaled.jpg
END:VEVENT
BEGIN:VEVENT
DTSTART;TZID=America/Chicago:20260509T170000
DTEND;TZID=America/Chicago:20260509T220000
DTSTAMP:20260420T111242
CREATED:20260414T161715Z
LAST-MODIFIED:20260414T161715Z
UID:10003103-1778346000-1778364000@gogoodfellow.com
SUMMARY:Card Game Night
DESCRIPTION:Card Game Night in the Powell Event Center May 9th & 23rd 5pm-10pm. \nFMI: 325-654-3247
URL:https://gogoodfellow.com/event/card-game-night-4/2026-05-09/
CATEGORIES:FSS Events,Fun,Library
ATTACH;FMTTYPE=image/jpeg:https://gogoodfellow.com/wp-content/uploads/2026/04/9-23-MAY-Card-Game-Night_DS-scaled.jpg
END:VEVENT
BEGIN:VEVENT
DTSTART;TZID=America/Chicago:20260512T090000
DTEND;TZID=America/Chicago:20260512T090000
DTSTAMP:20260420T111242
CREATED:20251118T204047Z
LAST-MODIFIED:20251118T204047Z
UID:10002797-1778576400-1778576400@gogoodfellow.com
SUMMARY:Story Time
DESCRIPTION:The Goodfellow Library will be starting the Story time every Tuesday at 9am & Thursday at 5:30pm for some stories\, sing-alongs\, and crafts!! All ages welcome! \nFMI: 325-654-3232
URL:https://gogoodfellow.com/event/story-time/2026-05-12/
CATEGORIES:FSS Events,Fun,Library
ATTACH;FMTTYPE=image/jpeg:https://gogoodfellow.com/wp-content/uploads/2024/12/Story-Time-Graphic-Alternative_DS-scaled.jpg
END:VEVENT
BEGIN:VEVENT
DTSTART;TZID=America/Chicago:20260512T103000
DTEND;TZID=America/Chicago:20260512T123000
DTSTAMP:20260420T111242
CREATED:20260414T155515Z
LAST-MODIFIED:20260414T155515Z
UID:10003099-1778581800-1778589000@gogoodfellow.com
SUMMARY:Fibers Club
DESCRIPTION:Fibers Club this month is May 5th & 26th 5pm-7pm\, 12th & 19th 10:30am-12:30pm in the Library \nFMI: 325-654-3232
URL:https://gogoodfellow.com/event/fibers-club-3/2026-05-12/
CATEGORIES:FSS Events,Fun,Library
ATTACH;FMTTYPE=image/jpeg:https://gogoodfellow.com/wp-content/uploads/2026/04/5-26-APR-Fibers-Club_DS-scaled.jpg
END:VEVENT
BEGIN:VEVENT
DTSTART;TZID=America/Chicago:20260514T173000
DTEND;TZID=America/Chicago:20260514T173000
DTSTAMP:20260420T111242
CREATED:20251118T204232Z
LAST-MODIFIED:20251120T201401Z
UID:10002848-1778779800-1778779800@gogoodfellow.com
SUMMARY:Story Time
DESCRIPTION:The Goodfellow Library will be starting the Story time every Tuesday at 9am & Thursday at 5:30pm for some stories\, sing-alongs\, and crafts!! All ages welcome! \nFMI: 325-654-3232
URL:https://gogoodfellow.com/event/story-time-3/2026-05-14/
CATEGORIES:FSS Events,Fun,Library
ATTACH;FMTTYPE=image/jpeg:https://gogoodfellow.com/wp-content/uploads/2024/12/Story-Time-Graphic-Alternative_DS-scaled.jpg
END:VEVENT
BEGIN:VEVENT
DTSTART;TZID=America/Chicago:20260515T173000
DTEND;TZID=America/Chicago:20260515T200000
DTSTAMP:20260420T111242
CREATED:20251120T200907Z
LAST-MODIFIED:20251120T201048Z
UID:10002893-1778866200-1778875200@gogoodfellow.com
SUMMARY:Friday Night Flicks
DESCRIPTION:Weekly movie nights every Friday @ the Library 5:30pm-8pm \nFMI: 325-654-3232
URL:https://gogoodfellow.com/event/friday-night-flicks-2/2026-05-15/
CATEGORIES:FSS Events,Fun,Library
ATTACH;FMTTYPE=image/jpeg:https://gogoodfellow.com/wp-content/uploads/2025/09/Alternate-Weekly-Friday-Night-Flicks_DS-scaled.jpg
END:VEVENT
END:VCALENDAR